BEGIN:VCALENDAR
VERSION:2.0
PRODID:-//Carnegie Museums of Pittsburgh - ECPv6.11.2//NONSGML v1.0//EN
CALSCALE:GREGORIAN
METHOD:PUBLISH
X-ORIGINAL-URL:https://carnegiemuseums.org
X-WR-CALDESC:Events for Carnegie Museums of Pittsburgh
REFRESH-INTERVAL;VALUE=DURATION:PT1H
X-Robots-Tag:noindex
X-PUBLISHED-TTL:PT1H
BEGIN:VTIMEZONE
TZID:America/New_York
BEGIN:DAYLIGHT
TZOFFSETFROM:-0500
TZOFFSETTO:-0400
TZNAME:EDT
DTSTART:20250309T070000
END:DAYLIGHT
BEGIN:STANDARD
TZOFFSETFROM:-0400
TZOFFSETTO:-0500
TZNAME:EST
DTSTART:20251102T060000
END:STANDARD
BEGIN:DAYLIGHT
TZOFFSETFROM:-0500
TZOFFSETTO:-0400
TZNAME:EDT
DTSTART:20260308T070000
END:DAYLIGHT
BEGIN:STANDARD
TZOFFSETFROM:-0400
TZOFFSETTO:-0500
TZNAME:EST
DTSTART:20261101T060000
END:STANDARD
BEGIN:DAYLIGHT
TZOFFSETFROM:-0500
TZOFFSETTO:-0400
TZNAME:EDT
DTSTART:20270314T070000
END:DAYLIGHT
BEGIN:STANDARD
TZOFFSETFROM:-0400
TZOFFSETTO:-0500
TZNAME:EST
DTSTART:20271107T060000
END:STANDARD
BEGIN:DAYLIGHT
TZOFFSETFROM:-0500
TZOFFSETTO:-0400
TZNAME:EDT
DTSTART:20280312T070000
END:DAYLIGHT
BEGIN:STANDARD
TZOFFSETFROM:-0400
TZOFFSETTO:-0500
TZNAME:EST
DTSTART:20281105T060000
END:STANDARD
BEGIN:DAYLIGHT
TZOFFSETFROM:-0500
TZOFFSETTO:-0400
TZNAME:EDT
DTSTART:20290311T070000
END:DAYLIGHT
BEGIN:STANDARD
TZOFFSETFROM:-0400
TZOFFSETTO:-0500
TZNAME:EST
DTSTART:20291104T060000
END:STANDARD
BEGIN:DAYLIGHT
TZOFFSETFROM:-0500
TZOFFSETTO:-0400
TZNAME:EDT
DTSTART:20300310T070000
END:DAYLIGHT
BEGIN:STANDARD
TZOFFSETFROM:-0400
TZOFFSETTO:-0500
TZNAME:EST
DTSTART:20301103T060000
END:STANDARD
BEGIN:DAYLIGHT
TZOFFSETFROM:-0500
TZOFFSETTO:-0400
TZNAME:EDT
DTSTART:20310309T070000
END:DAYLIGHT
BEGIN:STANDARD
TZOFFSETFROM:-0400
TZOFFSETTO:-0500
TZNAME:EST
DTSTART:20311102T060000
END:STANDARD
BEGIN:DAYLIGHT
TZOFFSETFROM:-0500
TZOFFSETTO:-0400
TZNAME:EDT
DTSTART:20320314T070000
END:DAYLIGHT
BEGIN:STANDARD
TZOFFSETFROM:-0400
TZOFFSETTO:-0500
TZNAME:EST
DTSTART:20321107T060000
END:STANDARD
BEGIN:DAYLIGHT
TZOFFSETFROM:-0500
TZOFFSETTO:-0400
TZNAME:EDT
DTSTART:20330313T070000
END:DAYLIGHT
BEGIN:STANDARD
TZOFFSETFROM:-0400
TZOFFSETTO:-0500
TZNAME:EST
DTSTART:20331106T060000
END:STANDARD
BEGIN:DAYLIGHT
TZOFFSETFROM:-0500
TZOFFSETTO:-0400
TZNAME:EDT
DTSTART:20340312T070000
END:DAYLIGHT
BEGIN:STANDARD
TZOFFSETFROM:-0400
TZOFFSETTO:-0500
TZNAME:EST
DTSTART:20341105T060000
END:STANDARD
BEGIN:DAYLIGHT
TZOFFSETFROM:-0500
TZOFFSETTO:-0400
TZNAME:EDT
DTSTART:20350311T070000
END:DAYLIGHT
BEGIN:STANDARD
TZOFFSETFROM:-0400
TZOFFSETTO:-0500
TZNAME:EST
DTSTART:20351104T060000
END:STANDARD
END:VTIMEZONE
BEGIN:VEVENT
DTSTART;VALUE=DATE:20250603
DTEND;VALUE=DATE:20300614
DTSTAMP:20260423T061550
CREATED:20250625T143614Z
LAST-MODIFIED:20251112T204143Z
UID:10006024-1748908800-1907625599@carnegiemuseums.org
SUMMARY:Uprooted: Plants Out of Place
DESCRIPTION:Learn how plants ride along as passengers\, not drivers\, from one region to another\, and the consequences when an introduced plant becomes a harmful invasive species in its new environment.
URL:https://carnegiemnh.org/explore/uprooted/
LOCATION:Carnegie Museum of Natural History\, 4400 Forbes Avenue\, pittsburgh\, PA\, 15213\, United States
CATEGORIES:Exhibitions
ATTACH;FMTTYPE=image/jpeg:https://carnegiemuseums.org/wp-content/uploads/exhibit-CMNH-2025-uprooted.jpg
END:VEVENT
BEGIN:VEVENT
DTSTART;VALUE=DATE:20251108
DTEND;VALUE=DATE:20261109
DTSTAMP:20260423T061550
CREATED:20250930T140651Z
LAST-MODIFIED:20251112T204215Z
UID:10006782-1762560000-1794182399@carnegiemuseums.org
SUMMARY:The Stories We Keep: Bringing the World to Pittsburgh
DESCRIPTION:
URL:https://carnegiemnh.org/explore/stories-we-keep-pittsburgh/
LOCATION:Carnegie Museum of Natural History\, 4400 Forbes Avenue\, pittsburgh\, PA\, 15213\, United States
CATEGORIES:Exhibitions
ATTACH;FMTTYPE=image/jpeg:https://carnegiemuseums.org/wp-content/uploads/exhibit-CMNH-2025-SWK2.jpg
END:VEVENT
BEGIN:VEVENT
DTSTART;TZID=America/New_York:20251219T123000
DTEND;TZID=America/New_York:20351219T130000
DTSTAMP:20260423T061550
CREATED:20251218T150658Z
LAST-MODIFIED:20260123T135609Z
UID:10008206-1766147400-2081682000@carnegiemuseums.org
SUMMARY:Trio Tour
DESCRIPTION:
URL:https://carnegiemuseums.org/event/trio-tour/2025-12-19/
LOCATION:Carnegie Museum of Natural History\, 4400 Forbes Avenue\, pittsburgh\, PA\, 15213\, United States
CATEGORIES:Talks & Tours
ATTACH;FMTTYPE=image/jpeg:https://carnegiemuseums.org/wp-content/uploads/event-CMNH-trio-tour.jpg
END:VEVENT
BEGIN:VEVENT
DTSTART;TZID=America/New_York:20260423T100000
DTEND;TZID=America/New_York:20260423T170000
DTSTAMP:20260423T061550
CREATED:20260318T144537Z
LAST-MODIFIED:20260318T144537Z
UID:10011296-1776938400-1776963600@carnegiemuseums.org
SUMMARY:Sensory Friendly Weekend
DESCRIPTION:
URL:https://carnegiemuseums.org/event/sensory-friendly-weekend-2/2026-04-23/
LOCATION:Carnegie Museum of Natural History\, 4400 Forbes Avenue\, pittsburgh\, PA\, 15213\, United States
CATEGORIES:Activites
ATTACH;FMTTYPE=image/jpeg:https://carnegiemuseums.org/wp-content/uploads/event-CMNH-Sensory-Friendly1.jpg
END:VEVENT
BEGIN:VEVENT
DTSTART;TZID=America/New_York:20260424T100000
DTEND;TZID=America/New_York:20260424T110000
DTSTAMP:20260423T061550
CREATED:20260106T202836Z
LAST-MODIFIED:20260123T135650Z
UID:10010942-1777024800-1777028400@carnegiemuseums.org
SUMMARY:Storytime at the Museum
DESCRIPTION:
URL:https://carnegiemuseums.org/event/14938-2/2026-04-24/
LOCATION:Carnegie Museum of Natural History\, 4400 Forbes Avenue\, pittsburgh\, PA\, 15213\, United States
CATEGORIES:Activites
ATTACH;FMTTYPE=image/jpeg:https://carnegiemuseums.org/wp-content/uploads/event-CMNH-storytime1.jpg
END:VEVENT
BEGIN:VEVENT
DTSTART;VALUE=DATE:20260622
DTEND;VALUE=DATE:20260702
DTSTAMP:20260423T061550
CREATED:20260218T182133Z
LAST-MODIFIED:20260406T122043Z
UID:10011260-1782086400-1782950399@carnegiemuseums.org
SUMMARY:Summer Camp
DESCRIPTION:
URL:https://carnegiemuseums.org/summer-camps/
LOCATION:Carnegie Museum of Art\, 4400 Forbes Ave.\, Pittsburgh\, PA\, 15213\, United States
CATEGORIES:Activites,Homepage Event
ATTACH;FMTTYPE=image/jpeg:https://carnegiemuseums.org/wp-content/uploads/event-CMP-Summer-Camp.jpg
END:VEVENT
END:VCALENDAR