BEGIN:VCALENDAR
VERSION:2.0
PRODID:-//Carnegie Museums of Pittsburgh - ECPv6.11.2//NONSGML v1.0//EN
CALSCALE:GREGORIAN
METHOD:PUBLISH
X-WR-CALNAME:Carnegie Museums of Pittsburgh
X-ORIGINAL-URL:https://carnegiemuseums.org
X-WR-CALDESC:Events for Carnegie Museums of Pittsburgh
REFRESH-INTERVAL;VALUE=DURATION:PT1H
X-Robots-Tag:noindex
X-PUBLISHED-TTL:PT1H
BEGIN:VTIMEZONE
TZID:America/New_York
BEGIN:DAYLIGHT
TZOFFSETFROM:-0500
TZOFFSETTO:-0400
TZNAME:EDT
DTSTART:20260308T070000
END:DAYLIGHT
BEGIN:STANDARD
TZOFFSETFROM:-0400
TZOFFSETTO:-0500
TZNAME:EST
DTSTART:20261101T060000
END:STANDARD
END:VTIMEZONE
BEGIN:VEVENT
DTSTART;TZID=America/New_York:20260421T100000
DTEND;TZID=America/New_York:20260421T170000
DTSTAMP:20260421T085048
CREATED:20260318T144537Z
LAST-MODIFIED:20260318T144537Z
UID:10011294-1776765600-1776790800@carnegiemuseums.org
SUMMARY:Sensory Friendly Weekend
DESCRIPTION:
URL:https://carnegiemuseums.org/event/sensory-friendly-weekend-2/2026-04-21/
LOCATION:Carnegie Museum of Natural History\, 4400 Forbes Avenue\, pittsburgh\, PA\, 15213\, United States
CATEGORIES:Activites
ATTACH;FMTTYPE=image/jpeg:https://carnegiemuseums.org/wp-content/uploads/event-CMNH-Sensory-Friendly1.jpg
END:VEVENT
END:VCALENDAR